BEGIN:VCALENDAR
VERSION:2.0
PRODID:-//Soft Play LA - ECPv6.0.13.1//NONSGML v1.0//EN
CALSCALE:GREGORIAN
METHOD:PUBLISH
X-ORIGINAL-URL:https://www.softplayla.com
X-WR-CALDESC:Events for Soft Play LA
REFRESH-INTERVAL;VALUE=DURATION:PT1H
X-Robots-Tag:noindex
X-PUBLISHED-TTL:PT1H
BEGIN:VTIMEZONE
TZID:America/Los_Angeles
BEGIN:DAYLIGHT
TZOFFSETFROM:-0800
TZOFFSETTO:-0700
TZNAME:PDT
DTSTART:20270314T100000
END:DAYLIGHT
BEGIN:STANDARD
TZOFFSETFROM:-0700
TZOFFSETTO:-0800
TZNAME:PST
DTSTART:20271107T090000
END:STANDARD
END:VTIMEZONE
BEGIN:VEVENT
DTSTART;TZID=America/Los_Angeles:20270915T100000
DTEND;TZID=America/Los_Angeles:20270915T120000
DTSTAMP:20260423T135508
CREATED:20221031T233313Z
LAST-MODIFIED:20221102T012059Z
UID:10000661-1821002400-1821009600@www.softplayla.com
SUMMARY:Music
DESCRIPTION:
URL:https://www.softplayla.com/event/music-1/2027-09-15/
CATEGORIES:12-18 Months
END:VEVENT
BEGIN:VEVENT
DTSTART;TZID=America/Los_Angeles:20270922T100000
DTEND;TZID=America/Los_Angeles:20270922T120000
DTSTAMP:20260423T135509
CREATED:20221031T233313Z
LAST-MODIFIED:20221102T012059Z
UID:10000662-1821607200-1821614400@www.softplayla.com
SUMMARY:Music
DESCRIPTION:
URL:https://www.softplayla.com/event/music-1/2027-09-22/
CATEGORIES:12-18 Months
END:VEVENT
BEGIN:VEVENT
DTSTART;TZID=America/Los_Angeles:20270929T100000
DTEND;TZID=America/Los_Angeles:20270929T120000
DTSTAMP:20260423T135509
CREATED:20221031T233313Z
LAST-MODIFIED:20221102T012059Z
UID:10000663-1822212000-1822219200@www.softplayla.com
SUMMARY:Music
DESCRIPTION:
URL:https://www.softplayla.com/event/music-1/2027-09-29/
CATEGORIES:12-18 Months
END:VEVENT
BEGIN:VEVENT
DTSTART;TZID=America/Los_Angeles:20271006T100000
DTEND;TZID=America/Los_Angeles:20271006T120000
DTSTAMP:20260423T135509
CREATED:20221031T233313Z
LAST-MODIFIED:20221102T012059Z
UID:10000664-1822816800-1822824000@www.softplayla.com
SUMMARY:Music
DESCRIPTION:
URL:https://www.softplayla.com/event/music-1/2027-10-06/
CATEGORIES:12-18 Months
END:VEVENT
BEGIN:VEVENT
DTSTART;TZID=America/Los_Angeles:20271013T100000
DTEND;TZID=America/Los_Angeles:20271013T120000
DTSTAMP:20260423T135509
CREATED:20221031T233313Z
LAST-MODIFIED:20221102T012059Z
UID:10000665-1823421600-1823428800@www.softplayla.com
SUMMARY:Music
DESCRIPTION:
URL:https://www.softplayla.com/event/music-1/2027-10-13/
CATEGORIES:12-18 Months
END:VEVENT
BEGIN:VEVENT
DTSTART;TZID=America/Los_Angeles:20271020T100000
DTEND;TZID=America/Los_Angeles:20271020T120000
DTSTAMP:20260423T135509
CREATED:20221031T233313Z
LAST-MODIFIED:20221102T012059Z
UID:10000666-1824026400-1824033600@www.softplayla.com
SUMMARY:Music
DESCRIPTION:
URL:https://www.softplayla.com/event/music-1/2027-10-20/
CATEGORIES:12-18 Months
END:VEVENT
BEGIN:VEVENT
DTSTART;TZID=America/Los_Angeles:20271027T100000
DTEND;TZID=America/Los_Angeles:20271027T120000
DTSTAMP:20260423T135509
CREATED:20221031T233313Z
LAST-MODIFIED:20221102T012059Z
UID:10000667-1824631200-1824638400@www.softplayla.com
SUMMARY:Music
DESCRIPTION:
URL:https://www.softplayla.com/event/music-1/2027-10-27/
CATEGORIES:12-18 Months
END:VEVENT
END:VCALENDAR