BEGIN:VCALENDAR
VERSION:2.0
PRODID:-//Soft Play LA - ECPv6.0.13.1//NONSGML v1.0//EN
CALSCALE:GREGORIAN
METHOD:PUBLISH
X-ORIGINAL-URL:https://www.softplayla.com
X-WR-CALDESC:Events for Soft Play LA
REFRESH-INTERVAL;VALUE=DURATION:PT1H
X-Robots-Tag:noindex
X-PUBLISHED-TTL:PT1H
BEGIN:VTIMEZONE
TZID:America/Los_Angeles
BEGIN:DAYLIGHT
TZOFFSETFROM:-0800
TZOFFSETTO:-0700
TZNAME:PDT
DTSTART:20270314T100000
END:DAYLIGHT
BEGIN:STANDARD
TZOFFSETFROM:-0700
TZOFFSETTO:-0800
TZNAME:PST
DTSTART:20271107T090000
END:STANDARD
END:VTIMEZONE
BEGIN:VEVENT
DTSTART;TZID=America/Los_Angeles:20270107T100000
DTEND;TZID=America/Los_Angeles:20270107T110000
DTSTAMP:20260423T135508
CREATED:20221031T233504Z
LAST-MODIFIED:20221102T012111Z
UID:10000365-1799316000-1799319600@www.softplayla.com
SUMMARY:Music
DESCRIPTION:
URL:https://www.softplayla.com/event/music-2/2027-01-07/
CATEGORIES:18-24 Months
END:VEVENT
BEGIN:VEVENT
DTSTART;TZID=America/Los_Angeles:20270107T113000
DTEND;TZID=America/Los_Angeles:20270107T123000
DTSTAMP:20260423T135508
CREATED:20221101T220842Z
LAST-MODIFIED:20221102T012118Z
UID:10001407-1799321400-1799325000@www.softplayla.com
SUMMARY:Music
DESCRIPTION:
URL:https://www.softplayla.com/event/music-3/2027-01-07/
CATEGORIES:6-12 Months
END:VEVENT
BEGIN:VEVENT
DTSTART;TZID=America/Los_Angeles:20270114T100000
DTEND;TZID=America/Los_Angeles:20270114T110000
DTSTAMP:20260423T135508
CREATED:20221031T233504Z
LAST-MODIFIED:20221102T012111Z
UID:10000366-1799920800-1799924400@www.softplayla.com
SUMMARY:Music
DESCRIPTION:
URL:https://www.softplayla.com/event/music-2/2027-01-14/
CATEGORIES:18-24 Months
END:VEVENT
BEGIN:VEVENT
DTSTART;TZID=America/Los_Angeles:20270114T113000
DTEND;TZID=America/Los_Angeles:20270114T123000
DTSTAMP:20260423T135508
CREATED:20221101T220842Z
LAST-MODIFIED:20221102T012118Z
UID:10001408-1799926200-1799929800@www.softplayla.com
SUMMARY:Music
DESCRIPTION:
URL:https://www.softplayla.com/event/music-3/2027-01-14/
CATEGORIES:6-12 Months
END:VEVENT
BEGIN:VEVENT
DTSTART;TZID=America/Los_Angeles:20270121T100000
DTEND;TZID=America/Los_Angeles:20270121T110000
DTSTAMP:20260423T135508
CREATED:20221031T233504Z
LAST-MODIFIED:20221102T012111Z
UID:10000367-1800525600-1800529200@www.softplayla.com
SUMMARY:Music
DESCRIPTION:
URL:https://www.softplayla.com/event/music-2/2027-01-21/
CATEGORIES:18-24 Months
END:VEVENT
BEGIN:VEVENT
DTSTART;TZID=America/Los_Angeles:20270121T113000
DTEND;TZID=America/Los_Angeles:20270121T123000
DTSTAMP:20260423T135508
CREATED:20221101T220842Z
LAST-MODIFIED:20221102T012118Z
UID:10001409-1800531000-1800534600@www.softplayla.com
SUMMARY:Music
DESCRIPTION:
URL:https://www.softplayla.com/event/music-3/2027-01-21/
CATEGORIES:6-12 Months
END:VEVENT
BEGIN:VEVENT
DTSTART;TZID=America/Los_Angeles:20270128T100000
DTEND;TZID=America/Los_Angeles:20270128T110000
DTSTAMP:20260423T135508
CREATED:20221031T233504Z
LAST-MODIFIED:20221102T012111Z
UID:10000368-1801130400-1801134000@www.softplayla.com
SUMMARY:Music
DESCRIPTION:
URL:https://www.softplayla.com/event/music-2/2027-01-28/
CATEGORIES:18-24 Months
END:VEVENT
BEGIN:VEVENT
DTSTART;TZID=America/Los_Angeles:20270128T113000
DTEND;TZID=America/Los_Angeles:20270128T123000
DTSTAMP:20260423T135508
CREATED:20221101T220842Z
LAST-MODIFIED:20221102T012118Z
UID:10001410-1801135800-1801139400@www.softplayla.com
SUMMARY:Music
DESCRIPTION:
URL:https://www.softplayla.com/event/music-3/2027-01-28/
CATEGORIES:6-12 Months
END:VEVENT
BEGIN:VEVENT
DTSTART;TZID=America/Los_Angeles:20270204T100000
DTEND;TZID=America/Los_Angeles:20270204T110000
DTSTAMP:20260423T135508
CREATED:20221031T233504Z
LAST-MODIFIED:20221102T012111Z
UID:10000369-1801735200-1801738800@www.softplayla.com
SUMMARY:Music
DESCRIPTION:
URL:https://www.softplayla.com/event/music-2/2027-02-04/
CATEGORIES:18-24 Months
END:VEVENT
BEGIN:VEVENT
DTSTART;TZID=America/Los_Angeles:20270204T113000
DTEND;TZID=America/Los_Angeles:20270204T123000
DTSTAMP:20260423T135508
CREATED:20221101T220842Z
LAST-MODIFIED:20221102T012118Z
UID:10001411-1801740600-1801744200@www.softplayla.com
SUMMARY:Music
DESCRIPTION:
URL:https://www.softplayla.com/event/music-3/2027-02-04/
CATEGORIES:6-12 Months
END:VEVENT
BEGIN:VEVENT
DTSTART;TZID=America/Los_Angeles:20270211T100000
DTEND;TZID=America/Los_Angeles:20270211T110000
DTSTAMP:20260423T135508
CREATED:20221031T233504Z
LAST-MODIFIED:20221102T012111Z
UID:10000370-1802340000-1802343600@www.softplayla.com
SUMMARY:Music
DESCRIPTION:
URL:https://www.softplayla.com/event/music-2/2027-02-11/
CATEGORIES:18-24 Months
END:VEVENT
BEGIN:VEVENT
DTSTART;TZID=America/Los_Angeles:20270211T113000
DTEND;TZID=America/Los_Angeles:20270211T123000
DTSTAMP:20260423T135508
CREATED:20221101T220842Z
LAST-MODIFIED:20221102T012118Z
UID:10001412-1802345400-1802349000@www.softplayla.com
SUMMARY:Music
DESCRIPTION:
URL:https://www.softplayla.com/event/music-3/2027-02-11/
CATEGORIES:6-12 Months
END:VEVENT
BEGIN:VEVENT
DTSTART;TZID=America/Los_Angeles:20270218T100000
DTEND;TZID=America/Los_Angeles:20270218T110000
DTSTAMP:20260423T135508
CREATED:20221031T233504Z
LAST-MODIFIED:20221102T012111Z
UID:10000371-1802944800-1802948400@www.softplayla.com
SUMMARY:Music
DESCRIPTION:
URL:https://www.softplayla.com/event/music-2/2027-02-18/
CATEGORIES:18-24 Months
END:VEVENT
BEGIN:VEVENT
DTSTART;TZID=America/Los_Angeles:20270218T113000
DTEND;TZID=America/Los_Angeles:20270218T123000
DTSTAMP:20260423T135508
CREATED:20221101T220842Z
LAST-MODIFIED:20221102T012118Z
UID:10001413-1802950200-1802953800@www.softplayla.com
SUMMARY:Music
DESCRIPTION:
URL:https://www.softplayla.com/event/music-3/2027-02-18/
CATEGORIES:6-12 Months
END:VEVENT
BEGIN:VEVENT
DTSTART;TZID=America/Los_Angeles:20270225T100000
DTEND;TZID=America/Los_Angeles:20270225T110000
DTSTAMP:20260423T135508
CREATED:20221031T233504Z
LAST-MODIFIED:20221102T012111Z
UID:10000372-1803549600-1803553200@www.softplayla.com
SUMMARY:Music
DESCRIPTION:
URL:https://www.softplayla.com/event/music-2/2027-02-25/
CATEGORIES:18-24 Months
END:VEVENT
BEGIN:VEVENT
DTSTART;TZID=America/Los_Angeles:20270225T113000
DTEND;TZID=America/Los_Angeles:20270225T123000
DTSTAMP:20260423T135508
CREATED:20221101T220842Z
LAST-MODIFIED:20221102T012118Z
UID:10001414-1803555000-1803558600@www.softplayla.com
SUMMARY:Music
DESCRIPTION:
URL:https://www.softplayla.com/event/music-3/2027-02-25/
CATEGORIES:6-12 Months
END:VEVENT
BEGIN:VEVENT
DTSTART;TZID=America/Los_Angeles:20270304T100000
DTEND;TZID=America/Los_Angeles:20270304T110000
DTSTAMP:20260423T135508
CREATED:20221031T233504Z
LAST-MODIFIED:20221102T012111Z
UID:10000373-1804154400-1804158000@www.softplayla.com
SUMMARY:Music
DESCRIPTION:
URL:https://www.softplayla.com/event/music-2/2027-03-04/
CATEGORIES:18-24 Months
END:VEVENT
BEGIN:VEVENT
DTSTART;TZID=America/Los_Angeles:20270304T113000
DTEND;TZID=America/Los_Angeles:20270304T123000
DTSTAMP:20260423T135508
CREATED:20221101T220842Z
LAST-MODIFIED:20221102T012118Z
UID:10001415-1804159800-1804163400@www.softplayla.com
SUMMARY:Music
DESCRIPTION:
URL:https://www.softplayla.com/event/music-3/2027-03-04/
CATEGORIES:6-12 Months
END:VEVENT
BEGIN:VEVENT
DTSTART;TZID=America/Los_Angeles:20270311T100000
DTEND;TZID=America/Los_Angeles:20270311T110000
DTSTAMP:20260423T135508
CREATED:20221031T233504Z
LAST-MODIFIED:20221102T012111Z
UID:10000374-1804759200-1804762800@www.softplayla.com
SUMMARY:Music
DESCRIPTION:
URL:https://www.softplayla.com/event/music-2/2027-03-11/
CATEGORIES:18-24 Months
END:VEVENT
BEGIN:VEVENT
DTSTART;TZID=America/Los_Angeles:20270311T113000
DTEND;TZID=America/Los_Angeles:20270311T123000
DTSTAMP:20260423T135508
CREATED:20221101T220842Z
LAST-MODIFIED:20221102T012118Z
UID:10001416-1804764600-1804768200@www.softplayla.com
SUMMARY:Music
DESCRIPTION:
URL:https://www.softplayla.com/event/music-3/2027-03-11/
CATEGORIES:6-12 Months
END:VEVENT
BEGIN:VEVENT
DTSTART;TZID=America/Los_Angeles:20270318T100000
DTEND;TZID=America/Los_Angeles:20270318T110000
DTSTAMP:20260423T135508
CREATED:20221031T233504Z
LAST-MODIFIED:20221102T012111Z
UID:10000375-1805364000-1805367600@www.softplayla.com
SUMMARY:Music
DESCRIPTION:
URL:https://www.softplayla.com/event/music-2/2027-03-18/
CATEGORIES:18-24 Months
END:VEVENT
BEGIN:VEVENT
DTSTART;TZID=America/Los_Angeles:20270318T113000
DTEND;TZID=America/Los_Angeles:20270318T123000
DTSTAMP:20260423T135508
CREATED:20221101T220842Z
LAST-MODIFIED:20221102T012118Z
UID:10001417-1805369400-1805373000@www.softplayla.com
SUMMARY:Music
DESCRIPTION:
URL:https://www.softplayla.com/event/music-3/2027-03-18/
CATEGORIES:6-12 Months
END:VEVENT
BEGIN:VEVENT
DTSTART;TZID=America/Los_Angeles:20270325T100000
DTEND;TZID=America/Los_Angeles:20270325T110000
DTSTAMP:20260423T135508
CREATED:20221031T233504Z
LAST-MODIFIED:20221102T012111Z
UID:10000376-1805968800-1805972400@www.softplayla.com
SUMMARY:Music
DESCRIPTION:
URL:https://www.softplayla.com/event/music-2/2027-03-25/
CATEGORIES:18-24 Months
END:VEVENT
BEGIN:VEVENT
DTSTART;TZID=America/Los_Angeles:20270325T113000
DTEND;TZID=America/Los_Angeles:20270325T123000
DTSTAMP:20260423T135508
CREATED:20221101T220842Z
LAST-MODIFIED:20221102T012118Z
UID:10001418-1805974200-1805977800@www.softplayla.com
SUMMARY:Music
DESCRIPTION:
URL:https://www.softplayla.com/event/music-3/2027-03-25/
CATEGORIES:6-12 Months
END:VEVENT
BEGIN:VEVENT
DTSTART;TZID=America/Los_Angeles:20270401T100000
DTEND;TZID=America/Los_Angeles:20270401T110000
DTSTAMP:20260423T135508
CREATED:20221031T233504Z
LAST-MODIFIED:20221102T012111Z
UID:10000377-1806573600-1806577200@www.softplayla.com
SUMMARY:Music
DESCRIPTION:
URL:https://www.softplayla.com/event/music-2/2027-04-01/
CATEGORIES:18-24 Months
END:VEVENT
BEGIN:VEVENT
DTSTART;TZID=America/Los_Angeles:20270401T113000
DTEND;TZID=America/Los_Angeles:20270401T123000
DTSTAMP:20260423T135508
CREATED:20221101T220842Z
LAST-MODIFIED:20221102T012118Z
UID:10001419-1806579000-1806582600@www.softplayla.com
SUMMARY:Music
DESCRIPTION:
URL:https://www.softplayla.com/event/music-3/2027-04-01/
CATEGORIES:6-12 Months
END:VEVENT
BEGIN:VEVENT
DTSTART;TZID=America/Los_Angeles:20270408T100000
DTEND;TZID=America/Los_Angeles:20270408T110000
DTSTAMP:20260423T135508
CREATED:20221031T233504Z
LAST-MODIFIED:20221102T012111Z
UID:10000378-1807178400-1807182000@www.softplayla.com
SUMMARY:Music
DESCRIPTION:
URL:https://www.softplayla.com/event/music-2/2027-04-08/
CATEGORIES:18-24 Months
END:VEVENT
BEGIN:VEVENT
DTSTART;TZID=America/Los_Angeles:20270408T113000
DTEND;TZID=America/Los_Angeles:20270408T123000
DTSTAMP:20260423T135508
CREATED:20221101T220842Z
LAST-MODIFIED:20221102T012118Z
UID:10001420-1807183800-1807187400@www.softplayla.com
SUMMARY:Music
DESCRIPTION:
URL:https://www.softplayla.com/event/music-3/2027-04-08/
CATEGORIES:6-12 Months
END:VEVENT
BEGIN:VEVENT
DTSTART;TZID=America/Los_Angeles:20270415T100000
DTEND;TZID=America/Los_Angeles:20270415T110000
DTSTAMP:20260423T135508
CREATED:20221031T233504Z
LAST-MODIFIED:20221102T012111Z
UID:10000379-1807783200-1807786800@www.softplayla.com
SUMMARY:Music
DESCRIPTION:
URL:https://www.softplayla.com/event/music-2/2027-04-15/
CATEGORIES:18-24 Months
END:VEVENT
BEGIN:VEVENT
DTSTART;TZID=America/Los_Angeles:20270415T113000
DTEND;TZID=America/Los_Angeles:20270415T123000
DTSTAMP:20260423T135508
CREATED:20221101T220842Z
LAST-MODIFIED:20221102T012118Z
UID:10001421-1807788600-1807792200@www.softplayla.com
SUMMARY:Music
DESCRIPTION:
URL:https://www.softplayla.com/event/music-3/2027-04-15/
CATEGORIES:6-12 Months
END:VEVENT
END:VCALENDAR