BEGIN:VCALENDAR
VERSION:2.0
PRODID:-//Soft Play LA - ECPv6.0.13.1//NONSGML v1.0//EN
CALSCALE:GREGORIAN
METHOD:PUBLISH
X-WR-CALNAME:Soft Play LA
X-ORIGINAL-URL:https://www.softplayla.com
X-WR-CALDESC:Events for Soft Play LA
REFRESH-INTERVAL;VALUE=DURATION:PT1H
X-Robots-Tag:noindex
X-PUBLISHED-TTL:PT1H
BEGIN:VTIMEZONE
TZID:America/Los_Angeles
BEGIN:DAYLIGHT
TZOFFSETFROM:-0800
TZOFFSETTO:-0700
TZNAME:PDT
DTSTART:20260308T100000
END:DAYLIGHT
BEGIN:STANDARD
TZOFFSETFROM:-0700
TZOFFSETTO:-0800
TZNAME:PST
DTSTART:20261101T090000
END:STANDARD
END:VTIMEZONE
BEGIN:VEVENT
DTSTART;TZID=America/Los_Angeles:20260827T100000
DTEND;TZID=America/Los_Angeles:20260827T110000
DTSTAMP:20260423T104052
CREATED:20221031T233504Z
LAST-MODIFIED:20221102T012111Z
UID:10000346-1787824800-1787828400@www.softplayla.com
SUMMARY:Music
DESCRIPTION:
URL:https://www.softplayla.com/event/music-2/2026-08-27/
CATEGORIES:18-24 Months
END:VEVENT
BEGIN:VEVENT
DTSTART;TZID=America/Los_Angeles:20260827T113000
DTEND;TZID=America/Los_Angeles:20260827T123000
DTSTAMP:20260423T104052
CREATED:20221101T220842Z
LAST-MODIFIED:20221102T012118Z
UID:10001388-1787830200-1787833800@www.softplayla.com
SUMMARY:Music
DESCRIPTION:
URL:https://www.softplayla.com/event/music-3/2026-08-27/
CATEGORIES:6-12 Months
END:VEVENT
BEGIN:VEVENT
DTSTART;TZID=America/Los_Angeles:20260903T100000
DTEND;TZID=America/Los_Angeles:20260903T110000
DTSTAMP:20260423T104052
CREATED:20221031T233504Z
LAST-MODIFIED:20221102T012111Z
UID:10000347-1788429600-1788433200@www.softplayla.com
SUMMARY:Music
DESCRIPTION:
URL:https://www.softplayla.com/event/music-2/2026-09-03/
CATEGORIES:18-24 Months
END:VEVENT
BEGIN:VEVENT
DTSTART;TZID=America/Los_Angeles:20260903T113000
DTEND;TZID=America/Los_Angeles:20260903T123000
DTSTAMP:20260423T104052
CREATED:20221101T220842Z
LAST-MODIFIED:20221102T012118Z
UID:10001389-1788435000-1788438600@www.softplayla.com
SUMMARY:Music
DESCRIPTION:
URL:https://www.softplayla.com/event/music-3/2026-09-03/
CATEGORIES:6-12 Months
END:VEVENT
BEGIN:VEVENT
DTSTART;TZID=America/Los_Angeles:20260910T100000
DTEND;TZID=America/Los_Angeles:20260910T110000
DTSTAMP:20260423T104052
CREATED:20221031T233504Z
LAST-MODIFIED:20221102T012111Z
UID:10000348-1789034400-1789038000@www.softplayla.com
SUMMARY:Music
DESCRIPTION:
URL:https://www.softplayla.com/event/music-2/2026-09-10/
CATEGORIES:18-24 Months
END:VEVENT
BEGIN:VEVENT
DTSTART;TZID=America/Los_Angeles:20260910T113000
DTEND;TZID=America/Los_Angeles:20260910T123000
DTSTAMP:20260423T104052
CREATED:20221101T220842Z
LAST-MODIFIED:20221102T012118Z
UID:10001390-1789039800-1789043400@www.softplayla.com
SUMMARY:Music
DESCRIPTION:
URL:https://www.softplayla.com/event/music-3/2026-09-10/
CATEGORIES:6-12 Months
END:VEVENT
BEGIN:VEVENT
DTSTART;TZID=America/Los_Angeles:20260917T100000
DTEND;TZID=America/Los_Angeles:20260917T110000
DTSTAMP:20260423T104052
CREATED:20221031T233504Z
LAST-MODIFIED:20221102T012111Z
UID:10000349-1789639200-1789642800@www.softplayla.com
SUMMARY:Music
DESCRIPTION:
URL:https://www.softplayla.com/event/music-2/2026-09-17/
CATEGORIES:18-24 Months
END:VEVENT
BEGIN:VEVENT
DTSTART;TZID=America/Los_Angeles:20260917T113000
DTEND;TZID=America/Los_Angeles:20260917T123000
DTSTAMP:20260423T104052
CREATED:20221101T220842Z
LAST-MODIFIED:20221102T012118Z
UID:10001391-1789644600-1789648200@www.softplayla.com
SUMMARY:Music
DESCRIPTION:
URL:https://www.softplayla.com/event/music-3/2026-09-17/
CATEGORIES:6-12 Months
END:VEVENT
BEGIN:VEVENT
DTSTART;TZID=America/Los_Angeles:20260924T100000
DTEND;TZID=America/Los_Angeles:20260924T110000
DTSTAMP:20260423T104052
CREATED:20221031T233504Z
LAST-MODIFIED:20221102T012111Z
UID:10000350-1790244000-1790247600@www.softplayla.com
SUMMARY:Music
DESCRIPTION:
URL:https://www.softplayla.com/event/music-2/2026-09-24/
CATEGORIES:18-24 Months
END:VEVENT
BEGIN:VEVENT
DTSTART;TZID=America/Los_Angeles:20260924T113000
DTEND;TZID=America/Los_Angeles:20260924T123000
DTSTAMP:20260423T104052
CREATED:20221101T220842Z
LAST-MODIFIED:20221102T012118Z
UID:10001392-1790249400-1790253000@www.softplayla.com
SUMMARY:Music
DESCRIPTION:
URL:https://www.softplayla.com/event/music-3/2026-09-24/
CATEGORIES:6-12 Months
END:VEVENT
BEGIN:VEVENT
DTSTART;TZID=America/Los_Angeles:20261001T100000
DTEND;TZID=America/Los_Angeles:20261001T110000
DTSTAMP:20260423T104052
CREATED:20221031T233504Z
LAST-MODIFIED:20221102T012111Z
UID:10000351-1790848800-1790852400@www.softplayla.com
SUMMARY:Music
DESCRIPTION:
URL:https://www.softplayla.com/event/music-2/2026-10-01/
CATEGORIES:18-24 Months
END:VEVENT
BEGIN:VEVENT
DTSTART;TZID=America/Los_Angeles:20261001T113000
DTEND;TZID=America/Los_Angeles:20261001T123000
DTSTAMP:20260423T104052
CREATED:20221101T220842Z
LAST-MODIFIED:20221102T012118Z
UID:10001393-1790854200-1790857800@www.softplayla.com
SUMMARY:Music
DESCRIPTION:
URL:https://www.softplayla.com/event/music-3/2026-10-01/
CATEGORIES:6-12 Months
END:VEVENT
BEGIN:VEVENT
DTSTART;TZID=America/Los_Angeles:20261008T100000
DTEND;TZID=America/Los_Angeles:20261008T110000
DTSTAMP:20260423T104052
CREATED:20221031T233504Z
LAST-MODIFIED:20221102T012111Z
UID:10000352-1791453600-1791457200@www.softplayla.com
SUMMARY:Music
DESCRIPTION:
URL:https://www.softplayla.com/event/music-2/2026-10-08/
CATEGORIES:18-24 Months
END:VEVENT
BEGIN:VEVENT
DTSTART;TZID=America/Los_Angeles:20261008T113000
DTEND;TZID=America/Los_Angeles:20261008T123000
DTSTAMP:20260423T104052
CREATED:20221101T220842Z
LAST-MODIFIED:20221102T012118Z
UID:10001394-1791459000-1791462600@www.softplayla.com
SUMMARY:Music
DESCRIPTION:
URL:https://www.softplayla.com/event/music-3/2026-10-08/
CATEGORIES:6-12 Months
END:VEVENT
BEGIN:VEVENT
DTSTART;TZID=America/Los_Angeles:20261015T100000
DTEND;TZID=America/Los_Angeles:20261015T110000
DTSTAMP:20260423T104052
CREATED:20221031T233504Z
LAST-MODIFIED:20221102T012111Z
UID:10000353-1792058400-1792062000@www.softplayla.com
SUMMARY:Music
DESCRIPTION:
URL:https://www.softplayla.com/event/music-2/2026-10-15/
CATEGORIES:18-24 Months
END:VEVENT
BEGIN:VEVENT
DTSTART;TZID=America/Los_Angeles:20261015T113000
DTEND;TZID=America/Los_Angeles:20261015T123000
DTSTAMP:20260423T104052
CREATED:20221101T220842Z
LAST-MODIFIED:20221102T012118Z
UID:10001395-1792063800-1792067400@www.softplayla.com
SUMMARY:Music
DESCRIPTION:
URL:https://www.softplayla.com/event/music-3/2026-10-15/
CATEGORIES:6-12 Months
END:VEVENT
BEGIN:VEVENT
DTSTART;TZID=America/Los_Angeles:20261022T100000
DTEND;TZID=America/Los_Angeles:20261022T110000
DTSTAMP:20260423T104052
CREATED:20221031T233504Z
LAST-MODIFIED:20221102T012111Z
UID:10000354-1792663200-1792666800@www.softplayla.com
SUMMARY:Music
DESCRIPTION:
URL:https://www.softplayla.com/event/music-2/2026-10-22/
CATEGORIES:18-24 Months
END:VEVENT
BEGIN:VEVENT
DTSTART;TZID=America/Los_Angeles:20261022T113000
DTEND;TZID=America/Los_Angeles:20261022T123000
DTSTAMP:20260423T104052
CREATED:20221101T220842Z
LAST-MODIFIED:20221102T012118Z
UID:10001396-1792668600-1792672200@www.softplayla.com
SUMMARY:Music
DESCRIPTION:
URL:https://www.softplayla.com/event/music-3/2026-10-22/
CATEGORIES:6-12 Months
END:VEVENT
BEGIN:VEVENT
DTSTART;TZID=America/Los_Angeles:20261029T100000
DTEND;TZID=America/Los_Angeles:20261029T110000
DTSTAMP:20260423T104052
CREATED:20221031T233504Z
LAST-MODIFIED:20221102T012111Z
UID:10000355-1793268000-1793271600@www.softplayla.com
SUMMARY:Music
DESCRIPTION:
URL:https://www.softplayla.com/event/music-2/2026-10-29/
CATEGORIES:18-24 Months
END:VEVENT
BEGIN:VEVENT
DTSTART;TZID=America/Los_Angeles:20261029T113000
DTEND;TZID=America/Los_Angeles:20261029T123000
DTSTAMP:20260423T104052
CREATED:20221101T220842Z
LAST-MODIFIED:20221102T012118Z
UID:10001397-1793273400-1793277000@www.softplayla.com
SUMMARY:Music
DESCRIPTION:
URL:https://www.softplayla.com/event/music-3/2026-10-29/
CATEGORIES:6-12 Months
END:VEVENT
BEGIN:VEVENT
DTSTART;TZID=America/Los_Angeles:20261105T100000
DTEND;TZID=America/Los_Angeles:20261105T110000
DTSTAMP:20260423T104052
CREATED:20221031T233504Z
LAST-MODIFIED:20221102T012111Z
UID:10000356-1793872800-1793876400@www.softplayla.com
SUMMARY:Music
DESCRIPTION:
URL:https://www.softplayla.com/event/music-2/2026-11-05/
CATEGORIES:18-24 Months
END:VEVENT
BEGIN:VEVENT
DTSTART;TZID=America/Los_Angeles:20261105T113000
DTEND;TZID=America/Los_Angeles:20261105T123000
DTSTAMP:20260423T104052
CREATED:20221101T220842Z
LAST-MODIFIED:20221102T012118Z
UID:10001398-1793878200-1793881800@www.softplayla.com
SUMMARY:Music
DESCRIPTION:
URL:https://www.softplayla.com/event/music-3/2026-11-05/
CATEGORIES:6-12 Months
END:VEVENT
BEGIN:VEVENT
DTSTART;TZID=America/Los_Angeles:20261112T100000
DTEND;TZID=America/Los_Angeles:20261112T110000
DTSTAMP:20260423T104052
CREATED:20221031T233504Z
LAST-MODIFIED:20221102T012111Z
UID:10000357-1794477600-1794481200@www.softplayla.com
SUMMARY:Music
DESCRIPTION:
URL:https://www.softplayla.com/event/music-2/2026-11-12/
CATEGORIES:18-24 Months
END:VEVENT
BEGIN:VEVENT
DTSTART;TZID=America/Los_Angeles:20261112T113000
DTEND;TZID=America/Los_Angeles:20261112T123000
DTSTAMP:20260423T104052
CREATED:20221101T220842Z
LAST-MODIFIED:20221102T012118Z
UID:10001399-1794483000-1794486600@www.softplayla.com
SUMMARY:Music
DESCRIPTION:
URL:https://www.softplayla.com/event/music-3/2026-11-12/
CATEGORIES:6-12 Months
END:VEVENT
BEGIN:VEVENT
DTSTART;TZID=America/Los_Angeles:20261119T100000
DTEND;TZID=America/Los_Angeles:20261119T110000
DTSTAMP:20260423T104052
CREATED:20221031T233504Z
LAST-MODIFIED:20221102T012111Z
UID:10000358-1795082400-1795086000@www.softplayla.com
SUMMARY:Music
DESCRIPTION:
URL:https://www.softplayla.com/event/music-2/2026-11-19/
CATEGORIES:18-24 Months
END:VEVENT
BEGIN:VEVENT
DTSTART;TZID=America/Los_Angeles:20261119T113000
DTEND;TZID=America/Los_Angeles:20261119T123000
DTSTAMP:20260423T104052
CREATED:20221101T220842Z
LAST-MODIFIED:20221102T012118Z
UID:10001400-1795087800-1795091400@www.softplayla.com
SUMMARY:Music
DESCRIPTION:
URL:https://www.softplayla.com/event/music-3/2026-11-19/
CATEGORIES:6-12 Months
END:VEVENT
BEGIN:VEVENT
DTSTART;TZID=America/Los_Angeles:20261126T100000
DTEND;TZID=America/Los_Angeles:20261126T110000
DTSTAMP:20260423T104052
CREATED:20221031T233504Z
LAST-MODIFIED:20221102T012111Z
UID:10000359-1795687200-1795690800@www.softplayla.com
SUMMARY:Music
DESCRIPTION:
URL:https://www.softplayla.com/event/music-2/2026-11-26/
CATEGORIES:18-24 Months
END:VEVENT
BEGIN:VEVENT
DTSTART;TZID=America/Los_Angeles:20261126T113000
DTEND;TZID=America/Los_Angeles:20261126T123000
DTSTAMP:20260423T104052
CREATED:20221101T220842Z
LAST-MODIFIED:20221102T012118Z
UID:10001401-1795692600-1795696200@www.softplayla.com
SUMMARY:Music
DESCRIPTION:
URL:https://www.softplayla.com/event/music-3/2026-11-26/
CATEGORIES:6-12 Months
END:VEVENT
BEGIN:VEVENT
DTSTART;TZID=America/Los_Angeles:20261203T100000
DTEND;TZID=America/Los_Angeles:20261203T110000
DTSTAMP:20260423T104052
CREATED:20221031T233504Z
LAST-MODIFIED:20221102T012111Z
UID:10000360-1796292000-1796295600@www.softplayla.com
SUMMARY:Music
DESCRIPTION:
URL:https://www.softplayla.com/event/music-2/2026-12-03/
CATEGORIES:18-24 Months
END:VEVENT
BEGIN:VEVENT
DTSTART;TZID=America/Los_Angeles:20261203T113000
DTEND;TZID=America/Los_Angeles:20261203T123000
DTSTAMP:20260423T104052
CREATED:20221101T220842Z
LAST-MODIFIED:20221102T012118Z
UID:10001402-1796297400-1796301000@www.softplayla.com
SUMMARY:Music
DESCRIPTION:
URL:https://www.softplayla.com/event/music-3/2026-12-03/
CATEGORIES:6-12 Months
END:VEVENT
END:VCALENDAR