BEGIN:VCALENDAR
VERSION:2.0
PRODID:-//Soft Play LA - ECPv6.0.13.1//NONSGML v1.0//EN
CALSCALE:GREGORIAN
METHOD:PUBLISH
X-ORIGINAL-URL:https://www.softplayla.com
X-WR-CALDESC:Events for Soft Play LA
REFRESH-INTERVAL;VALUE=DURATION:PT1H
X-Robots-Tag:noindex
X-PUBLISHED-TTL:PT1H
BEGIN:VTIMEZONE
TZID:America/Los_Angeles
BEGIN:DAYLIGHT
TZOFFSETFROM:-0800
TZOFFSETTO:-0700
TZNAME:PDT
DTSTART:20260308T100000
END:DAYLIGHT
BEGIN:STANDARD
TZOFFSETFROM:-0700
TZOFFSETTO:-0800
TZNAME:PST
DTSTART:20261101T090000
END:STANDARD
BEGIN:DAYLIGHT
TZOFFSETFROM:-0800
TZOFFSETTO:-0700
TZNAME:PDT
DTSTART:20270314T100000
END:DAYLIGHT
BEGIN:STANDARD
TZOFFSETFROM:-0700
TZOFFSETTO:-0800
TZNAME:PST
DTSTART:20271107T090000
END:STANDARD
END:VTIMEZONE
BEGIN:VEVENT
DTSTART;TZID=America/Los_Angeles:20260722T100000
DTEND;TZID=America/Los_Angeles:20260722T120000
DTSTAMP:20260423T062314
CREATED:20221031T233313Z
LAST-MODIFIED:20221102T012059Z
UID:10000601-1784714400-1784721600@www.softplayla.com
SUMMARY:Music
DESCRIPTION:
URL:https://www.softplayla.com/event/music-1/2026-07-22/
CATEGORIES:12-18 Months
END:VEVENT
BEGIN:VEVENT
DTSTART;TZID=America/Los_Angeles:20260729T100000
DTEND;TZID=America/Los_Angeles:20260729T120000
DTSTAMP:20260423T062314
CREATED:20221031T233313Z
LAST-MODIFIED:20221102T012059Z
UID:10000602-1785319200-1785326400@www.softplayla.com
SUMMARY:Music
DESCRIPTION:
URL:https://www.softplayla.com/event/music-1/2026-07-29/
CATEGORIES:12-18 Months
END:VEVENT
BEGIN:VEVENT
DTSTART;TZID=America/Los_Angeles:20260805T100000
DTEND;TZID=America/Los_Angeles:20260805T120000
DTSTAMP:20260423T062314
CREATED:20221031T233313Z
LAST-MODIFIED:20221102T012059Z
UID:10000603-1785924000-1785931200@www.softplayla.com
SUMMARY:Music
DESCRIPTION:
URL:https://www.softplayla.com/event/music-1/2026-08-05/
CATEGORIES:12-18 Months
END:VEVENT
BEGIN:VEVENT
DTSTART;TZID=America/Los_Angeles:20260812T100000
DTEND;TZID=America/Los_Angeles:20260812T120000
DTSTAMP:20260423T062314
CREATED:20221031T233313Z
LAST-MODIFIED:20221102T012059Z
UID:10000604-1786528800-1786536000@www.softplayla.com
SUMMARY:Music
DESCRIPTION:
URL:https://www.softplayla.com/event/music-1/2026-08-12/
CATEGORIES:12-18 Months
END:VEVENT
BEGIN:VEVENT
DTSTART;TZID=America/Los_Angeles:20260819T100000
DTEND;TZID=America/Los_Angeles:20260819T120000
DTSTAMP:20260423T062314
CREATED:20221031T233313Z
LAST-MODIFIED:20221102T012059Z
UID:10000605-1787133600-1787140800@www.softplayla.com
SUMMARY:Music
DESCRIPTION:
URL:https://www.softplayla.com/event/music-1/2026-08-19/
CATEGORIES:12-18 Months
END:VEVENT
BEGIN:VEVENT
DTSTART;TZID=America/Los_Angeles:20260826T100000
DTEND;TZID=America/Los_Angeles:20260826T120000
DTSTAMP:20260423T062314
CREATED:20221031T233313Z
LAST-MODIFIED:20221102T012059Z
UID:10000606-1787738400-1787745600@www.softplayla.com
SUMMARY:Music
DESCRIPTION:
URL:https://www.softplayla.com/event/music-1/2026-08-26/
CATEGORIES:12-18 Months
END:VEVENT
BEGIN:VEVENT
DTSTART;TZID=America/Los_Angeles:20260902T100000
DTEND;TZID=America/Los_Angeles:20260902T120000
DTSTAMP:20260423T062314
CREATED:20221031T233313Z
LAST-MODIFIED:20221102T012059Z
UID:10000607-1788343200-1788350400@www.softplayla.com
SUMMARY:Music
DESCRIPTION:
URL:https://www.softplayla.com/event/music-1/2026-09-02/
CATEGORIES:12-18 Months
END:VEVENT
BEGIN:VEVENT
DTSTART;TZID=America/Los_Angeles:20260909T100000
DTEND;TZID=America/Los_Angeles:20260909T120000
DTSTAMP:20260423T062314
CREATED:20221031T233313Z
LAST-MODIFIED:20221102T012059Z
UID:10000608-1788948000-1788955200@www.softplayla.com
SUMMARY:Music
DESCRIPTION:
URL:https://www.softplayla.com/event/music-1/2026-09-09/
CATEGORIES:12-18 Months
END:VEVENT
BEGIN:VEVENT
DTSTART;TZID=America/Los_Angeles:20260916T100000
DTEND;TZID=America/Los_Angeles:20260916T120000
DTSTAMP:20260423T062314
CREATED:20221031T233313Z
LAST-MODIFIED:20221102T012059Z
UID:10000609-1789552800-1789560000@www.softplayla.com
SUMMARY:Music
DESCRIPTION:
URL:https://www.softplayla.com/event/music-1/2026-09-16/
CATEGORIES:12-18 Months
END:VEVENT
BEGIN:VEVENT
DTSTART;TZID=America/Los_Angeles:20260923T100000
DTEND;TZID=America/Los_Angeles:20260923T120000
DTSTAMP:20260423T062314
CREATED:20221031T233313Z
LAST-MODIFIED:20221102T012059Z
UID:10000610-1790157600-1790164800@www.softplayla.com
SUMMARY:Music
DESCRIPTION:
URL:https://www.softplayla.com/event/music-1/2026-09-23/
CATEGORIES:12-18 Months
END:VEVENT
BEGIN:VEVENT
DTSTART;TZID=America/Los_Angeles:20260930T100000
DTEND;TZID=America/Los_Angeles:20260930T120000
DTSTAMP:20260423T062314
CREATED:20221031T233313Z
LAST-MODIFIED:20221102T012059Z
UID:10000611-1790762400-1790769600@www.softplayla.com
SUMMARY:Music
DESCRIPTION:
URL:https://www.softplayla.com/event/music-1/2026-09-30/
CATEGORIES:12-18 Months
END:VEVENT
BEGIN:VEVENT
DTSTART;TZID=America/Los_Angeles:20261007T100000
DTEND;TZID=America/Los_Angeles:20261007T120000
DTSTAMP:20260423T062314
CREATED:20221031T233313Z
LAST-MODIFIED:20221102T012059Z
UID:10000612-1791367200-1791374400@www.softplayla.com
SUMMARY:Music
DESCRIPTION:
URL:https://www.softplayla.com/event/music-1/2026-10-07/
CATEGORIES:12-18 Months
END:VEVENT
BEGIN:VEVENT
DTSTART;TZID=America/Los_Angeles:20261014T100000
DTEND;TZID=America/Los_Angeles:20261014T120000
DTSTAMP:20260423T062314
CREATED:20221031T233313Z
LAST-MODIFIED:20221102T012059Z
UID:10000613-1791972000-1791979200@www.softplayla.com
SUMMARY:Music
DESCRIPTION:
URL:https://www.softplayla.com/event/music-1/2026-10-14/
CATEGORIES:12-18 Months
END:VEVENT
BEGIN:VEVENT
DTSTART;TZID=America/Los_Angeles:20261021T100000
DTEND;TZID=America/Los_Angeles:20261021T120000
DTSTAMP:20260423T062314
CREATED:20221031T233313Z
LAST-MODIFIED:20221102T012059Z
UID:10000614-1792576800-1792584000@www.softplayla.com
SUMMARY:Music
DESCRIPTION:
URL:https://www.softplayla.com/event/music-1/2026-10-21/
CATEGORIES:12-18 Months
END:VEVENT
BEGIN:VEVENT
DTSTART;TZID=America/Los_Angeles:20261028T100000
DTEND;TZID=America/Los_Angeles:20261028T120000
DTSTAMP:20260423T062314
CREATED:20221031T233313Z
LAST-MODIFIED:20221102T012059Z
UID:10000615-1793181600-1793188800@www.softplayla.com
SUMMARY:Music
DESCRIPTION:
URL:https://www.softplayla.com/event/music-1/2026-10-28/
CATEGORIES:12-18 Months
END:VEVENT
BEGIN:VEVENT
DTSTART;TZID=America/Los_Angeles:20261104T100000
DTEND;TZID=America/Los_Angeles:20261104T120000
DTSTAMP:20260423T062314
CREATED:20221031T233313Z
LAST-MODIFIED:20221102T012059Z
UID:10000616-1793786400-1793793600@www.softplayla.com
SUMMARY:Music
DESCRIPTION:
URL:https://www.softplayla.com/event/music-1/2026-11-04/
CATEGORIES:12-18 Months
END:VEVENT
BEGIN:VEVENT
DTSTART;TZID=America/Los_Angeles:20261111T100000
DTEND;TZID=America/Los_Angeles:20261111T120000
DTSTAMP:20260423T062314
CREATED:20221031T233313Z
LAST-MODIFIED:20221102T012059Z
UID:10000617-1794391200-1794398400@www.softplayla.com
SUMMARY:Music
DESCRIPTION:
URL:https://www.softplayla.com/event/music-1/2026-11-11/
CATEGORIES:12-18 Months
END:VEVENT
BEGIN:VEVENT
DTSTART;TZID=America/Los_Angeles:20261118T100000
DTEND;TZID=America/Los_Angeles:20261118T120000
DTSTAMP:20260423T062314
CREATED:20221031T233313Z
LAST-MODIFIED:20221102T012059Z
UID:10000618-1794996000-1795003200@www.softplayla.com
SUMMARY:Music
DESCRIPTION:
URL:https://www.softplayla.com/event/music-1/2026-11-18/
CATEGORIES:12-18 Months
END:VEVENT
BEGIN:VEVENT
DTSTART;TZID=America/Los_Angeles:20261125T100000
DTEND;TZID=America/Los_Angeles:20261125T120000
DTSTAMP:20260423T062314
CREATED:20221031T233313Z
LAST-MODIFIED:20221102T012059Z
UID:10000619-1795600800-1795608000@www.softplayla.com
SUMMARY:Music
DESCRIPTION:
URL:https://www.softplayla.com/event/music-1/2026-11-25/
CATEGORIES:12-18 Months
END:VEVENT
BEGIN:VEVENT
DTSTART;TZID=America/Los_Angeles:20261202T100000
DTEND;TZID=America/Los_Angeles:20261202T120000
DTSTAMP:20260423T062314
CREATED:20221031T233313Z
LAST-MODIFIED:20221102T012059Z
UID:10000620-1796205600-1796212800@www.softplayla.com
SUMMARY:Music
DESCRIPTION:
URL:https://www.softplayla.com/event/music-1/2026-12-02/
CATEGORIES:12-18 Months
END:VEVENT
BEGIN:VEVENT
DTSTART;TZID=America/Los_Angeles:20261209T100000
DTEND;TZID=America/Los_Angeles:20261209T120000
DTSTAMP:20260423T062314
CREATED:20221031T233313Z
LAST-MODIFIED:20221102T012059Z
UID:10000621-1796810400-1796817600@www.softplayla.com
SUMMARY:Music
DESCRIPTION:
URL:https://www.softplayla.com/event/music-1/2026-12-09/
CATEGORIES:12-18 Months
END:VEVENT
BEGIN:VEVENT
DTSTART;TZID=America/Los_Angeles:20261216T100000
DTEND;TZID=America/Los_Angeles:20261216T120000
DTSTAMP:20260423T062314
CREATED:20221031T233313Z
LAST-MODIFIED:20221102T012059Z
UID:10000622-1797415200-1797422400@www.softplayla.com
SUMMARY:Music
DESCRIPTION:
URL:https://www.softplayla.com/event/music-1/2026-12-16/
CATEGORIES:12-18 Months
END:VEVENT
BEGIN:VEVENT
DTSTART;TZID=America/Los_Angeles:20261223T100000
DTEND;TZID=America/Los_Angeles:20261223T120000
DTSTAMP:20260423T062314
CREATED:20221031T233313Z
LAST-MODIFIED:20221102T012059Z
UID:10000623-1798020000-1798027200@www.softplayla.com
SUMMARY:Music
DESCRIPTION:
URL:https://www.softplayla.com/event/music-1/2026-12-23/
CATEGORIES:12-18 Months
END:VEVENT
BEGIN:VEVENT
DTSTART;TZID=America/Los_Angeles:20261230T100000
DTEND;TZID=America/Los_Angeles:20261230T120000
DTSTAMP:20260423T062314
CREATED:20221031T233313Z
LAST-MODIFIED:20221102T012059Z
UID:10000624-1798624800-1798632000@www.softplayla.com
SUMMARY:Music
DESCRIPTION:
URL:https://www.softplayla.com/event/music-1/2026-12-30/
CATEGORIES:12-18 Months
END:VEVENT
BEGIN:VEVENT
DTSTART;TZID=America/Los_Angeles:20270106T100000
DTEND;TZID=America/Los_Angeles:20270106T120000
DTSTAMP:20260423T062314
CREATED:20221031T233313Z
LAST-MODIFIED:20221102T012059Z
UID:10000625-1799229600-1799236800@www.softplayla.com
SUMMARY:Music
DESCRIPTION:
URL:https://www.softplayla.com/event/music-1/2027-01-06/
CATEGORIES:12-18 Months
END:VEVENT
BEGIN:VEVENT
DTSTART;TZID=America/Los_Angeles:20270113T100000
DTEND;TZID=America/Los_Angeles:20270113T120000
DTSTAMP:20260423T062314
CREATED:20221031T233313Z
LAST-MODIFIED:20221102T012059Z
UID:10000626-1799834400-1799841600@www.softplayla.com
SUMMARY:Music
DESCRIPTION:
URL:https://www.softplayla.com/event/music-1/2027-01-13/
CATEGORIES:12-18 Months
END:VEVENT
BEGIN:VEVENT
DTSTART;TZID=America/Los_Angeles:20270120T100000
DTEND;TZID=America/Los_Angeles:20270120T120000
DTSTAMP:20260423T062314
CREATED:20221031T233313Z
LAST-MODIFIED:20221102T012059Z
UID:10000627-1800439200-1800446400@www.softplayla.com
SUMMARY:Music
DESCRIPTION:
URL:https://www.softplayla.com/event/music-1/2027-01-20/
CATEGORIES:12-18 Months
END:VEVENT
BEGIN:VEVENT
DTSTART;TZID=America/Los_Angeles:20270127T100000
DTEND;TZID=America/Los_Angeles:20270127T120000
DTSTAMP:20260423T062314
CREATED:20221031T233313Z
LAST-MODIFIED:20221102T012059Z
UID:10000628-1801044000-1801051200@www.softplayla.com
SUMMARY:Music
DESCRIPTION:
URL:https://www.softplayla.com/event/music-1/2027-01-27/
CATEGORIES:12-18 Months
END:VEVENT
BEGIN:VEVENT
DTSTART;TZID=America/Los_Angeles:20270203T100000
DTEND;TZID=America/Los_Angeles:20270203T120000
DTSTAMP:20260423T062314
CREATED:20221031T233313Z
LAST-MODIFIED:20221102T012059Z
UID:10000629-1801648800-1801656000@www.softplayla.com
SUMMARY:Music
DESCRIPTION:
URL:https://www.softplayla.com/event/music-1/2027-02-03/
CATEGORIES:12-18 Months
END:VEVENT
BEGIN:VEVENT
DTSTART;TZID=America/Los_Angeles:20270210T100000
DTEND;TZID=America/Los_Angeles:20270210T120000
DTSTAMP:20260423T062314
CREATED:20221031T233313Z
LAST-MODIFIED:20221102T012059Z
UID:10000630-1802253600-1802260800@www.softplayla.com
SUMMARY:Music
DESCRIPTION:
URL:https://www.softplayla.com/event/music-1/2027-02-10/
CATEGORIES:12-18 Months
END:VEVENT
END:VCALENDAR